Workbook

Sheet DADOS
B2: PREFEITURA MUNICIPAL DE MOCOCA
B3: SECRETARIA MUNICIPAL DE ENGENHARIA E INFRAESTRUTURA URBANA
B4: Rua XV de Novembro, 360 - Centro - Mococa - São Paulo
B5: Portal da Cidadania: www.mococa.sp.gov.br
B6: Tel: (19) 3656 - 9800
B7: DADOS E INFORMAÇÕES DO EMPREENDIMENTO
D9: =ORÇAMENTO!B9 -> EMPREENDIMENTO : REFORMA DOS BANHEIROS E REVITALIZAÇÃO DA EMEB CARLINDO PAROLI
D10: =ORÇAMENTO!B10 -> LOCAL: AV. FRANCISCO JOSÉ DIAS LIM, CONJ. HAB. FRANCISCO GARÓFALO, MOCOCA-SP, CEP 13.736-845
D12: VALOR DE REPASSE | F12: 70000
D13: VALOR DE CONTRAPARTIDA | F13: 0
D14: REGIME PREVIDENCIÁRIO PREVISTO PARA OBRA | F14: SEM DESONERAÇÃO
D15: DATA BASE | F15: CDHU 193 , SINAPI 03/2024, E FDE JAN/2024
D17: RESPONSAVÊL TÉCNICO | F17: RENAN AUGUSTO DE CARVALHO
D18: CARGO / FUNÇÃO | F18: SECRETÁRIO MUNICIPAL
D19: CREA / CAU | F19: 5070103369
D20: ART Nº
D23: LICITAÇÃO
D24: DATA DE EMISSÃO DA LICITAÇÃO: XX/XX/XXXX
D25: Nº DE CONTRATO COM A EMPRESA : XXX/20XX
D26: NOME DA EMPRESA:
D27: CNPJ DA EMPRESA:
D28: TIPO DE LICITAÇÃO :
D31: ACOMPANHAMENTO
D32: MEDIÇÃO Nº | E32: VALOR MEDIDO NO PERIODO | G32: DATA DA MEDIÇÃO
D33: 1ª MEDIÇÃO | E33: R$ XXXXX,XX | G33: XX/XX/XXXX
D34: 2ª MEDIÇÃO | E34: R$ XXXXX,XX | G34: XX/XX/XXXX
D35: 3ª MEDIÇÃO | E35: R$ XXXXX,XX | G35: XX/XX/XXXX
D36: 4ª MEDIÇÃO | E36: R$ XXXXX,XX | G36: XX/XX/XXXX
D39: Obs: "teve termo aditivo de prazo", teve termo aditivo de valor", obra paralizada de tal a tal dia. Obra finalizada tal data

Sheet ORÇAMENTO
B2: PREFEITURA MUNICIPAL DE MOCOCA
B3: SECRETARIA MUNICIPAL DE ENGENHARIA E INFRAESTRUTURA URBANA
B4: Rua XV de Novembro, 360 - Centro - Mococa - São Paulo
B5: Portal da Cidadania: www.mococa.sp.gov.br
B6: Tel: (19) 3656 - 9800
B8: PO - Planilha Orçamentária
B9: EMPREENDIMENTO : REFORMA DOS BANHEIROS E REVITALIZAÇÃO DA EMEB CARLINDO PAROLI | G9: Mococa, 15 de Maio de 2024
B10: LOCAL: AV. FRANCISCO JOSÉ DIAS LIM, CONJ. HAB. FRANCISCO GARÓFALO, MOCOCA-SP, CEP 13.736-845
B11: FONTE/DATA BASE: CDHU 193 sem desoneração, SINAPI 03-2024 sem desoneração e FDE 01/2024 | I11: BDI = 19,16%
B13: ITEM | C13: CÓDIGO | D13: FONTE | E13: DESCRIÇÃO | F13: UNID. | G13: VALOR MÁXIMO UNITÁRIO | H13: QUANTIDADE | I13: VALOR MAXIMO TOTAL
B15: 1 | C15: SERVIÇOS PRELIMINARES | I15: =SUM(I16:I17) -> 9291.42
B16: 1.1 | C16: 02.08.020 | D16: CDHU | E16: Placa de identificação para obra | F16: M2 | G16: 891.72 | H16: 4.5 | I16: =H16*G16 -> 4012.74
B17: 1.2 | C17: 02.02.150 | D17: CDHU | E17: Locação de container tipo depósito - área mínima de 13,80 m² | F17: UM/MÊS | G17: 879.78 | H17: 6 | I17: =H17*G17 -> 5278.68
B18: 2 | C18: FECHAMENTO DOS TELHADOS | I18: =SUM(I19:I20) -> 14575.845
B19: 2.1 | C19: 34.20.050 | D19: CDHU | E19: Tela de arame galvanizado fio nº 22 BWG, malha de 1´ (tela hexagonal tipo pinteiro fechamento para entrada de aves) | F19: M2 | G19: 16.53 | H19: 137.5 | I19: =H19*G19 -> 2272.875
B20: 2.2 | C20: 16.12.020 | D20: CDHU | E20: Telhamento em chapa de aço pré-pintada com epóxi e poliéster, perfil ondulado, com espessura de 0,50 mm (fechamentos frontais dos telhados) | F20: M2 | G20: 132.29 | H20: 93 | I20: =H20*G20 -> 12302.97
B21: 3 | C21: RAMPA DE ACESSO A QUADRA | I21: =SUM(I22:I27) -> 19687.529
B22: 3.1 | C22: 03.01.240 | D22: CDHU | E22: Demolição mecanizada de pavimento ou piso em concreto, inclusive fragmentação, carregamento, transporte até 1 quilômetro e descarregamento | F22: M2 | G22: 32.22 | H22: 108.52 | I22: =H22*G22 -> 3496.5144
B23: 3.2 | C23: 54.01.010 | D23: CDHU | E23: Regularização e compactação mecanizada de superfície, sem controle do proctor normal | F23: M2 | G23: 3.66 | H23: 224.35 | I23: =H23*G23 -> 821.121
B24: 3.3 | C24: 54.01.210 | D24: CDHU | E24: Base de brita graduada | F24: M3 | G24: 245.68 | H24: 8.97 | I24: =H24*G24 -> 2203.7496
B25: 3.4 | C25: 10.02.020 | D25: CDHU | E25: Armadura em tela soldada de aço | F25: KG | G25: 10.65 | H25: 159.28 | I25: =H25*G25 -> 1696.332
B26: 3.5 | C26: 17.05.100 | D26: CDHU | E26: Piso com requadro em concreto simples com controle de fck= 25 Mpa | F26: M3 | G26: 981.79 | H26: 11.21 | I26: =H26*G26 -> 11005.866
B27: 3.6 | C27: 05.07.040 | D27: CDHU | E27: Remoção de entulho separado de obra com caçamba metálica - terra, alvenaria, concreto, argamassa, madeira, papel, plástico ou metal | F27: M3 | G27: 106.9 | H27: 4.34 | I27: =H27*G27 -> 463.946
B28: 4 | C28: REGULARIZAÇÃO DAS CANALETAS | I28: =SUM(I29:I32) -> 8194.616
B29: 4.1 | C29: 03.04.020 | D29: CDHU | E29: Demolição manual de revestimento cerâmico, incluindo a base ( demolição dos pisos instalados nas canaletas de escoamento) | F29: M2 | G29: 12.22 | H29: 123.5 | I29: =H29*G29 -> 1509.17
B30: 4.2 | C30: 17.01.060 | D30: CDHU | E30: Regularização de piso com nata de cimento e adesivo de alto desempenho | F30: M2 | G30: 33.38 | H30: 123.5 | I30: =H30*G30 -> 4122.43
B31: 4.3 | C31: 49.06.190 | D31: CDHU | E31: Grelha pré-moldada em concreto, com furos redondos, 79,5 x 24,5 x 8 cm (reposição das tampas quebradas e/ou danificadas das canaletas de escoamento) | F31: UND | G31: 98.63 | H31: 6 | I31: =H31*G31 -> 591.78
B32: 4.4 | C32: 05.07.040 | D32: CDHU | E32: Remoção de entulho separado de obra com caçamba metálica - terra, alvenaria, concreto, argamassa, madeira, papel, plástico ou metal (pisos demolidos + retirada da camada de brita ) | F32: M3 | G32: 106.9 | H32: 18.44 | I32: =H32*G32 -> 1971.236
B33: 5 | C33: TROCA DAS PORTAS | I33: =SUM(I34:I36) -> 9102.8208
B34: 5.1 | C34: 04.08.020 | D34: CDHU | E34: Retirada de folha de esquadria em madeira (retirada das portas) | F34: UND | G34: 22.58 | H34: 4 | I34: =H34*G34 -> 90.32
B35: 5.2 | C35: 04.10.080 | D35: CDHU | E35: Retirada de peça ou acessório complementar em geral de esquadria | F35: UND | G35: 19.54 | H35: 4 | I35: =H35*G35 -> 78.16
B36: 5.3 | C36: 24.02.060 | D36: CDHU | E36: Porta/portão de abrir em chapa, sob medida | F36: M2 | G36: 966.92 | H36: 9.24 | I36: =H36*G36 -> 8934.3408
B37: 6 | C37: ILUMINAÇÃO | I37: =SUM(I38:I50) -> 31564.52
B38: 6.1 | C38: 04.17.040 | D38: CDHU | E38: Remoção de aparelho de iluminação ou projetor fixo em poste ou braço | F38: UND | G38: 75.08 | H38: 17 | I38: =H38*G38 -> 1276.36
B39: 6.2 | C39: 41.11.440 | D39: CDHU | E39: Suporte tubular de fixação em poste para 1 luminária tipo pétala | F39: UND | G39: 98.85 | H39: 16 | I39: =H39*G39 -> 1581.6
B40: 6.3 | C40: 101657 | D40: CDHU | E40: LUMINÁRIA DE LED PARA ILUMINAÇÃO PÚBLICA, DE 98 W ATÉ 137 W - FORNECIMENTO E INSTALAÇÃO. AF_08/2020 | F40: UND | G40: 464.08 | H40: 16 | I40: =H40*G40 -> 7425.28
B41: 6.4 | C41: 41.10.080 | D41: CDHU | E41: Cruzeta reforçada em ferro galvanizado para fixação de duas luminárias | F41: UND | G41: 574.16 | H41: 4 | I41: =H41*G41 -> 2296.64
B42: 6.5 | C42: 39391 | D42: SINAPI-I | E42: LUMINARIA LED REFLETOR RETANGULAR BIVOLT, LUZ BRANCA, 100 W | F42: UND | G42: 35.14 | H42: 8 | I42: =H42*G42 -> 281.12
B43: 6.6 | C43: 39.02.016 | D43: CDHU | E43: Cabo de cobre de 2,5 mm², isolamento 750 V - isolação em PVC 70°C | F43: M | G43: 4.02 | H43: 500 | I43: =H43*G43 -> 2010
B44: 6.7 | C44: 39.02.030 | D44: CDHU | E44: Cabo de cobre de 6 mm², isolamento 750 V - isolação em PVC 70°C | F44: M | G44: 8.36 | H44: 1000 | I44: =H44*G44 -> 8360
...

Sheet CFF
B2: PREFEITURA MUNICIPAL DE MOCOCA
B3: SECRETARIA MUNICIPAL DE ENGENHARIA E INFRAESTRUTURA URBANA
B4: Rua XV de Novembro, 360 - Centro - Mococa - São Paulo
B5: Portal da Cidadania: www.mococa.sp.gov.br
B6: Tel: (19) 3656 - 9800
B7: CFF- CRONOGRAMA FÍSICO FINANCEIRO
B8: =ORÇAMENTO!B9 -> EMPREENDIMENTO : REFORMA DOS BANHEIROS E REVITALIZAÇÃO DA EMEB CARLINDO PAROLI | I8: =ORÇAMENTO!G9 -> Mococa, 15 de Maio de 2024
B9: =ORÇAMENTO!B10 -> LOCAL: AV. FRANCISCO JOSÉ DIAS LIM, CONJ. HAB. FRANCISCO GARÓFALO, MOCOCA-SP, CEP 13.736-845
B10: =ORÇAMENTO!B11 -> FONTE/DATA BASE: CDHU 193 sem desoneração, SINAPI 03-2024 sem desoneração e FDE 01/2024 | M10: =ORÇAMENTO!I11 -> BDI = 19,16%
B12: . | C12: DESCRIÇÃO DOS SERVIÇOS | D12: VALOR DOS SERVIÇOS | E12: % | F12: SERVIÇOS A SEREM EXECUTADOS POR PERIODO
F13: MÊS 01 | G13: MÊS 02 | H13: MÊS 03 | I13: MÊS 04 | J13: MÊS 05 | K13: MÊS 06 | L13: MÊS 07 | M13: TOTAL
B14: 1 | C14: =ORÇAMENTO!C15 -> SERVIÇOS PRELIMINARES | D14: =ORÇAMENTO!I15 -> 9291.42 | E14: =D14/D26 -> 0.056540224 | F14: 1 | M14: =D14 -> 9291.42
B15: 2 | C15: =ORÇAMENTO!C18 -> FECHAMENTO DOS TELHADOS | D15: =ORÇAMENTO!I18 -> 14575.845 | E15: =D15/D26 -> 0.08869705 | F15: 1 | M15: =D15 -> 14575.845
B16: 3 | C16: =ORÇAMENTO!C21 -> RAMPA DE ACESSO A QUADRA | D16: =ORÇAMENTO!I21 -> 19687.529 | E16: =D16/D26 -> 0.11980271 | I16: 0.5 | J16: 0.1 | K16: 0.4 | M16: =D16 -> 19687.529
B17: 4 | C17: =ORÇAMENTO!C28 -> REGULARIZAÇÃO DAS CANALETAS | D17: =ORÇAMENTO!I28 -> 8194.616 | E17: =D17/D26 -> 0.049865944 | H17: 1 | M17: =D17 -> 8194.616
B18: 5 | C18: =ORÇAMENTO!C33 -> TROCA DAS PORTAS | D18: =ORÇAMENTO!I33 -> 9102.8208 | E18: =D18/D26 -> 0.055392559 | G18: 1 | M18: =D18 -> 9102.8208
B19: 6 | C19: =ORÇAMENTO!C37 -> ILUMINAÇÃO | D19: =ORÇAMENTO!I37 -> 31564.52 | E19: =D19/D26 -> 0.19207667 | J19: 0.3 | K19: 0.35 | L19: 0.35 | M19: =D19 -> 31564.52
B20: 7 | C20: =ORÇAMENTO!C51 -> REPAROS NA REDE ELÉTRICA | D20: =ORÇAMENTO!I51 -> 10259.22 | E20: =D20/D26 -> 0.062429489 | J20: 1 | M20: =D20 -> 10259.22
B21: 8 | C21: =ORÇAMENTO!C62 -> REFORMA DOS BANHEIROS | D21: =ORÇAMENTO!I62 -> 49434.262 | E21: =D21/D26 -> 0.30081777 | F21: 0.3 | G21: 0.3 | H21: 0.4 | M21: =D21 -> 49434.262
B22: 9 | C22: =ORÇAMENTO!C91 -> PINTURA DOS POSTES | D22: =ORÇAMENTO!I91 -> 699.69 | E22: =D22/D26 -> 0.0042577593 | L22: 1 | M22: =D22 -> 699.69
B23: 10 | C23: =ORÇAMENTO!C95 -> TROCA DOS AZULEJOS E PISOS DANIFICADOS | D23: =ORÇAMENTO!I95 -> 6927.162 | E23: =D23/D26 -> 0.042153222 | I23: 1 | M23: =D23 -> 6927.162
B24: 11 | C24: =ORÇAMENTO!C100 -> SUBSTITUIÇÃO DOS BEBEDOUROS | D24: =ORÇAMENTO!I100 -> 3808.52 | E24: =D24/D26 -> 0.023175637 | H24: 1 | M24: =D24 -> 3808.52
B25: 12 | C25: =ORÇAMENTO!C103 -> LIMPEZA E ARREMATES FINAIS | D25: =ORÇAMENTO!I103 -> 787.3125 | E25: =D25/D26 -> 0.0047909604 | L25: 1 | M25: =D25 -> 787.3125
B26: Total em R$ | D26: =SUM(D14:D25) -> 164332.92 | E26: =SUM(E14:E25) -> 1 | F26: =D21*30%+(D15+D14) -> 38697.544 | G26: =D21*30%+(D18) -> 23933.099 | H26: =D17+(D21*0.4)+D24 -> 31776.841 | I26: =D16/2+(D23) -> 16770.926 | J26: =D20+(D19*30%)+(D16*10%) -> 21697.329 | K26: =D19*35%+(D16*40%) -> 18922.594 | L26: =D19*35%+(D22+D25) -> 12534.585 | M26: =D26 -> 164332.92
B27: Total em % | F27: =F26/D26 -> 0.23548261 | G27: =G26/D26 -> 0.14563789 | H27: =H26/D26 -> 0.19336869 | I27: =I26/D26 -> 0.10205458 | J27: =J26/D26 -> 0.13203276 | K27: =K26/D26 -> 0.11514792 | L27: =L26/D26 -> 0.076275555 | M27: =SUM(F27:L27) -> 1
B28: Total acumulado em R$ | F28: =F26 -> 38697.544 | G28: =G26+F28 -> 62630.643 | H28: =H26+G28 -> 94407.484 | I28: =I26+H28 -> 111178.41 | J28: =J26+I28 -> 132875.74 | K28: =K26+J28 -> 151798.33 | L28: =L26+K28 -> 164332.92 | M28: =L28 -> 164332.92
B29: Total acumulado em % | F29: =F27 -> 0.23548261 | G29: =G27+F29 -> 0.3811205 | H29: =H27+G29 -> 0.57448919 | I29: =I27+H29 -> 0.67654376 | J29: =J27+I29 -> 0.80857653 | K29: =K27+J29 -> 0.92372444 | L29: =L27+K29 -> 1 | M29: =L29 -> 1
B30: BDI 19,16% | F30: =F26*19.16% -> 7414.4494 | G30: =G26*19.16% -> 4585.5819 | H30: =H26*19.16% -> 6088.4427 | I30: =I26*19.16% -> 3213.3095 | J30: =J26*19.16% -> 4157.2082 | K30: =K26*19.16% -> 3625.5689 | L30: =L26*19.16% -> 2401.6264 | M30: =M26*19.16% -> 31486.187
B31: Total acumulado com BDI 19,16% | F31: =F28+F30 -> 46111.993 | G31: =G28+G30 -> 67216.225 | H31: =H28+H30 -> 100495.93 | I31: =I28+I30 -> 114391.72 | J31: =J28+J30 -> 137032.95 | K31: =K28+K30 -> 155423.9 | L31: =L28+L30 -> 166734.54 | M31: =M28+M30 -> 195819.1

Sheet BDI
B2: PREFEITURA MUNICIPAL DE MOCOCA
B3: SECRETARIA MUNICIPAL DE ENGENHARIA E INFRAESTRUTURA URBANA
B4: Rua XV de Novembro, 360 - Centro - Mococa - São Paulo
B5: Portal da Cidadania: www.mococa.sp.gov.br
B6: Tel: (19) 3656 - 9800
B7: PLANILHA ANALÍTICA DO BDI
B8: =ORÇAMENTO!B9 -> EMPREENDIMENTO : REFORMA DOS BANHEIROS E REVITALIZAÇÃO DA EMEB CARLINDO PAROLI | G8: =ORÇAMENTO!G9 -> Mococa, 15 de Maio de 2024
B9: =ORÇAMENTO!B10 -> LOCAL: AV. FRANCISCO JOSÉ DIAS LIM, CONJ. HAB. FRANCISCO GARÓFALO, MOCOCA-SP, CEP 13.736-845
B10: =ORÇAMENTO!B11 -> FONTE/DATA BASE: CDHU 193 sem desoneração, SINAPI 03-2024 sem desoneração e FDE 01/2024
B12: ITEM | C12: DESCRIÇÃO | H12: % | I12: TOTAL
B13: 1 | C13: Administração central | I13: 0.04
B14: 2 | C14: Impostos e Taxas | I14: =H15+H16+H17 -> 0.0665
B15: 2.1 | C15: ISS | H15: 0.03
B16: 2.2 | C16: PIS | H16: 0.0065
B17: 2.3 | C17: Cofins | H17: 0.03
B18: 3 | C18: Taxa de Risco | I18: =H19+H20+H21 -> 0.0227
B19: 3.1 | C19: Seguro | H19: 0.0068
B20: 3.2 | C20: Risco | H20: 0.0093
B21: 3.3 | C21: Garantia | H21: 0.0066
B22: 4 | C22: Dispesa Financeira | I22: 0.0182
B23: 5 | C23: Lucro | I23: 0.0442
F24: BDI TOTAL | H24: =I23+I22+I18+I14+I13 -> 0.1916

Sheet CÁLCULO
B2: PREFEITURA MUNICIPAL DE MOCOCA
B3: SECRETARIA MUNICIPAL DE ENGENHARIA E INFRAESTRUTURA URBANA
B4: Rua XV de Novembro, 360 - Centro - Mococa - São Paulo
B5: Portal da Cidadania: www.mococa.sp.gov.br
B6: Tel: (19) 3656 - 9800
B8: MC- MEMORIAL DE CÁLCULO
B9: =ORÇAMENTO!B9 -> EMPREENDIMENTO : REFORMA DOS BANHEIROS E REVITALIZAÇÃO DA EMEB CARLINDO PAROLI
B10: LOCAL: AV. FRANCISCO JOSÉ DIAS LIM, CONJ. HAB. FRANCISCO GARÓFALO, MOCOCA-SP, CEP 13.736-845
B11: FONTE/DATA BASE: CDHU 193 sem desoneração e SINAPI 03-2024 sem desoneração | F11: BDI = 19,16%
B13: ITEM | C13: DESCRIÇÃO | D13: UNID. | E13: QUANTIDADE | F13: CÁLCULO
B15: 1 | C15: =ORÇAMENTO!C15 -> SERVIÇOS PRELIMINARES
B16: 1.1 | C16: Placa de identificação para obra | D16: M2 | E16: 4.5 | F16: DIMENSÕES DE 3M DE COMPRIMENTO POR 1,5M DE ALTURA
B17: 1.2 | C17: Locação de container tipo depósito - área mínima de 13,80 m² | D17: UM/MÊS | E17: 7 | F17: QUANTIDADE DE MESES DE DURAÇÃO DA OBRA
B18: 2 | C18: =ORÇAMENTO!C18 -> FECHAMENTO DOS TELHADOS
B19: 2.1 | C19: Tela de arame galvanizado fio nº 22 BWG, malha de 1´ (tela hexagonal tipo pinteiro fechamento para entrada de aves) | D19: M2 | E19: 137.5 | F19: 275,0M DE COMPRIMENTO DE TELHADOS A SEREM FECHADOS POR 0,5M DE ALTURA DO VÃO
B20: 2.2 | C20: Telhamento em chapa de aço pré-pintada com epóxi e poliéster, perfil ondulado, com espessura de 0,50 mm (fechamentos frontais dos telhados) | D20: M2 | E20: 93 | F20: ÁREA DE TELHADO A SER FECHADO, CONFORME PROJETO
B21: 3 | C21: =ORÇAMENTO!C21 -> RAMPA DE ACESSO A QUADRA
B22: 3.1 | C22: Demolição mecanizada de pavimento ou piso em concreto, inclusive fragmentação, carregamento, transporte até 1 quilômetro e descarregamento | D22: M2 | E22: 108.52 | F22: ÁREA DA RAMPA DE ACESSIBILIDADE 43,0M DE COMPRIMENTO VEZES 2,5M DE LARGURA
B23: 3.2 | C23: Regularização e compactação mecanizada de superfície, sem controle do proctor normal | D23: M2 | E23: 224.35 | F23: ÁREA DA RAMPA DE ACESSIBILIDADE 108,52M2 MAIS A ÁREA DO CALÇAMENTO A SER EXECUTADO 115,83M2
B24: 3.3 | C24: Base de brita graduada | D24: M3 | E24: 8.97 | F24: 224,35M2 VEZES 0,04M DE ESPESSURA DA CAMADA DE BRITA
B25: 3.4 | C25: Armadura em tela soldada de aço | D25: KG | E25: 159.28 | F25: 224,35M2 VEZES 1,4KG POR METRO DA MALHA POP
B26: 3.5 | C26: Piso com requadro em concreto simples com controle de fck= 25 Mpa | D26: M3 | E26: 11.21 | F26: 224,35M2 VEZES 0,05M ESPESSURA DA CAMADA DE CONCRETO
B27: 3.6 | C27: Remoção de entulho separado de obra com caçamba metálica - terra, alvenaria, concreto, argamassa, madeira, papel, plástico ou metal | D27: M3 | E27: 4.34 | F27: 108,52M2 RAMPA EXISTENTE VEZES ESPESSURA DA MESMA 0,04M
B28: 4 | C28: =ORÇAMENTO!C28 -> REGULARIZAÇÃO DAS CANALETAS
B29: 4.1 | C29: Demolição manual de revestimento cerâmico, incluindo a base ( demolição dos pisos instalados nas canaletas de escoamento) | D29: M2 | E29: 123.5 | F29: 247,00M DE COMPRIMENTO DE CANALETAS POR 0,5M DE LARGURA
B30: 4.2 | C30: Regularização de piso com nata de cimento e adesivo de alto desempenho | D30: M2 | E30: 123.5 | F30: 247,00M DE COMPRIMENTO DE CANALETAS POR 0,5M DE LARGURA
B31: 4.3 | C31: Grelha pré-moldada em concreto, com furos redondos, 79,5 x 24,5 x 8 cm (reposição das tampas quebradas e/ou danificadas das canaletas de escoamento) | D31: UND | E31: 6 | F31: UNIDADES DE GRELHAS DE CONCRETO QUEBRADAS A REPOR
B32: 4.4 | C32: Remoção de entulho separado de obra com caçamba metálica - terra, alvenaria, concreto, argamassa, madeira, papel, plástico ou metal (pisos demolidos + retirada da camada de brita ) | D32: M3 | E32: 18.44 | F32: RETIRADA DA BRITA , E DA DEMOLIÇÃO DO PISO
B33: 5 | C33: =ORÇAMENTO!C33 -> TROCA DAS PORTAS
B34: 5.1 | C34: Retirada de folha de esquadria em madeira (retirada das portas) | D34: UND | E34: 4 | F34: QUANTIDADE DE ESQUADRIAS A SEREM RETIRADAS
B35: 5.2 | C35: Retirada de peça ou acessório complementar em geral de esquadria | D35: UND | E35: 4 | F35: QUANTIDADE DE ESQUADRIAS A SEREM RETIRADAS
B36: 5.3 | C36: Porta/portão de abrir em chapa, sob medida | D36: M2 | E36: 9.24 | F36: 2,20M DE LARGURA POR 2,10M DE ALTURA
B37: 6 | C37: =ORÇAMENTO!C37 -> ILUMINAÇÃO
B38: 6.1 | C38: Remoção de aparelho de iluminação ou projetor fixo em poste ou braço | D38: UND | E38: 17 | F38: QUANTIDADE CONFORME PROJETO
B39: 6.2 | C39: Suporte tubular de fixação em poste para 1 luminária tipo pétala | D39: UND | E39: 16 | F39: QUANTIDADE CONFORME PROJETO
B40: 6.3 | C40: Luminária retangular fechada para iluminação externa em poste, tipo pétala grande | D40: UND | E40: 16 | F40: QUANTIDADE CONFORME PROJETO
B41: 6.4 | C41: Cruzeta reforçada em ferro galvanizado para fixação de duas luminárias | D41: UND | E41: 4 | F41: QUANTIDADE CONFORME PROJETO
B42: 6.5 | C42: LUMINARIA LED REFLETOR RETANGULAR BIVOLT, LUZ BRANCA, 100 W | D42: UND | E42: 8 | F42: QUANTIDADE CONFORME PROJETO
B43: 6.6 | C43: Cabo de cobre de 2,5 mm², isolamento 750 V - isolação em PVC 70°C | D43: M | E43: 500 | F43: METRAGEM NECESSARIA PARA LIGAÇÃO DAS NOVAS LUMINARIAS DISTANCIAS ENTRE POSTES E ALTURA DOS MESMOS DESCRITAS EM PROJETO
B44: 6.7 | C44: Cabo de cobre de 6 mm², isolamento 750 V - isolação em PVC 70°C | D44: M | E44: 1000 | F44: METRAGEM NECESSARIA PARA LIGAÇÃO DAS NOVAS LUMINARIAS DISTANCIAS ENTRE POSTES E ALTURA DOS MESMOS DESCRITAS EM PROJETO
...

Sheet COMPOSIÇÕES
B1: PREFEITURA MUNICIPAL DE MOCOCA
B2: SECRETARIA MUNICIPAL DE ENGENHARIA E INFRAESTRUTURA URBANA
B3: Rua XV de Novembro, 360 - Centro - Mococa - São Paulo
B4: Portal da Cidadania: www.mococa.sp.gov.br
B5: Tel: (19) 3656 - 9800
B6: QUADRO DE COMPOSIÇÕES
B7: =ORÇAMENTO!B9 -> EMPREENDIMENTO : REFORMA DOS BANHEIROS E REVITALIZAÇÃO DA EMEB CARLINDO PAROLI | G7: =ORÇAMENTO!G9 -> Mococa, 15 de Maio de 2024
B8: =ORÇAMENTO!B10 -> LOCAL: AV. FRANCISCO JOSÉ DIAS LIM, CONJ. HAB. FRANCISCO GARÓFALO, MOCOCA-SP, CEP 13.736-845
B9: =ORÇAMENTO!B11 -> FONTE/DATA BASE: CDHU 193 sem desoneração, SINAPI 03-2024 sem desoneração e FDE 01/2024 | I9: =ORÇAMENTO!I11 -> BDI = 19,16%
B11: COMP01 | E11: INSTALAÇÃO DE POSTE PADRÃO DE ENERGIA TIPO C1, COM CABEAMENTO DE 16 MM2 E DIJSJUNTORES DE 50A A 100A. | F11: UND | G11: VALOR UNT | H11: COEFICIENTE | I11: TOTAL
B12: 1.1 | C12: 101502 | D12: SINAPI | E12: ENTRADA DE ENERGIA ELÉTRICA, AÉREA, BIFÁSICA, COM CAIXA DE EMBUTIR, CABO DE 16 MM2 E DISJUNTOR DIN 50A (NÃO INCLUSO O POSTE DE CONCRETO). AF | F12: UND | G12: 1840.51 | H12: 1 | I12: =H12*G12 -> 1840.51
B13: 1.2 | C13: 41200 | D13: SINAPI-I | E13: POSTE DE CONCRETO ARMADO DE SECAO DUPLO T, EXTENSAO DE 10,00 M, RESISTENCIADE 600 DAN, TIPO B | F13: UND | G13: 1341.91 | H13: 1 | I13: =H13*G13 -> 1341.91
B14: 1.7 | C14: 88247 | D14: SINAPI | E14: AUXILIAR DE ELETRICISTA COM ENCARGOS COMPLEMENTARES | F14: H | G14: 30.93 | H14: 1.5 | I14: =H14*G14 -> 46.395
B15: 1.8 | C15: 88264 | D15: SINAPI | E15: ELETRICISTA COM ENCARGOS COMPLEMENTARES | F15: H | G15: 40.66 | H15: 1.5 | I15: =H15*G15 -> 60.99
B16: 1.9 | C16: 88252 | D16: SINAPI | E16: AUXILIAR DE SERVIÇOS GERAIS COM ENCARGOS COMPLEMENTARES | F16: H | G16: 27.95 | H16: 1 | I16: =H16*G16 -> 27.95
H17: VALOR TOTAL | I17: =SUM(I12:I16) -> 3317.755
B20: COMP02 | E20: REFLETOR LED 1000 W HOLOFOTE IP 68, 9000lm, BRANCO FRIO, VOLTAGEM 85V - 265V | F20: UND | G20: VALOR UNT | H20: COEFICIENTE | I20: TOTAL
B21: 1.1 | C21: COT01 | D21: COTAÇÃO | E21: Refletor 1000w Holofote Led Osram Combate 90000lm Ip66 | F21: UND | G21: 556.61 | H21: 1 | I21: =H21*G21 -> 556.61
B22: 1.2 | C22: COT02 | D22: COTAÇÃO | E22: Refletor Led 1000w Holofote Branco Frio 75% - Ecosoli | F22: UND | G22: 899 | H22: 1 | I22: =H22*G22 -> 899
B23: 1.3 | C23: COT03 | D23: COTAÇÃO | E23: Refletor Holofote LED 1000W Branco Frio 6500K A Prova d'água - Bivolt | F23: UND | G23: 1399 | H23: 1 | I23: =H23*G23 -> 1399
B24: 1.4 | C24: COT04 | D24: COTAÇÃO | E24: Refletor Holofote Microled 1000w Branco Frio IP67 - 82728 | F24: UND | G24: 1282.49 | H24: 1 | I24: =H24*G24 -> 1282.49
H25: VALOR TOTAL | I25: =AVERAGE(I21:I24) -> 1034.275
B28: COMP03 | E28: CORTE EM PAVIMENTO DE ASFALTO / CONCRETO COM MÁQUINA E DISCO DIAMANTADO DB 03/2024 | F28: M2 | G28: VALOR UNT | H28: COEFICIENTE | I28: TOTAL
B29: 1.1 | C29: 91283 | D29: SINAPI | E29: CORTADORA DE PISO COM MOTOR 4 TEMPOS A GASOLINA, POTÊNCIA DE 13 HP, COM DISCO DE CORTE DIAMANTADO SEGMENTADO PARA CONCRETO, DIÂMETRO DE 350MM, FURO DE 1" (14 X 1") - CHP DIURNO. AF_08/2015 | F29: CHP | G29: 10.25 | H29: 0.12 | I29: =H29*G29 -> 1.23
B30: 1.2 | C30: 88309 | D30: SINAPI | E30: PEDREIRO COM ENCARGOS COMPLEMENTARES | F30: H | G30: 33.57 | H30: 0.12 | I30: =H30*G30 -> 4.0284
B31: 1.3 | C31: 88316 | D31: SINAPI | E31: SERVENTE COM ENCARGOS COMPLEMENTARES | F31: H | G31: 28.17 | H31: 0.12 | I31: =H31*G31 -> 3.3804
B32: 1.4 | C32: 13887 | D32: SINAPI | E32: DISCO DE CORTE DIAMANTADO SEGMENTADO PARA CONCRETO, DIAMETRO DE 350 MM, FURO DE 1 " (14 X 1 ") | F32: UND | G32: 814.44 | H32: 0.005 | I32: =H32*G32 -> 4.0722
H33: VALOR TOTAL | I33: =SUM(I29:I32) -> 12.711
B36: COMP03 | F36: UND | G36: =G37+G38+G39+G40+G41 -> 0 | I36: 1

Sheet FDE
A1: TABELA DE PREÇOS Data Base 01/2024 LS 71,27 BDI 19,5
A2: Serviço Descrição | C2: Unidade | E2: Valor
A3: 01.01.001 | B3: RETIRANDO A VEGETACAO, TRONCOS ATE 5CM DE DIAMETRO E RASPAGEM. | D3: M2 | F3: 3,67
A4: 01.01.010 | B4: CORTE, RECORTE E REMOCAO DE ARVORES INCL RAIZES DIAM>5<15CM | D4: UN | F4: 147,35
A5: 01.01.021 | B5: CORTE, RECORTE E REMOÇÃO DE ÁRVORES INCL.RAIZES 15CM<DIAM<30CM | D5: UN | F5: 891,32
A6: 01.01.022 | B6: CORTE, RECORTE E REMOÇÃO DE ÁRVORES INCL.RAIZES 30CM<DIAM<45CM | D6: UN | F6: 2746,09
A7: 01.01.023 | B7: CORTE, RECORTE E REMOÇÃO DE ÁRVORES INCL.RAIZES 45CM<DIAM<60CM | D7: UN | F7: 4315,99
A8: 01.01.024 | B8: CORTE, RECORTE E REMOÇÃO DE ÁRVORES INCL.RAIZES 60CM<DIAM<100CM | D8: UN | F8: 8566,12
A9: 01.01.025 | B9: CORTE, RECORTE E REMOÇÃO DE ÁRVORES INCL.RAIZES DIAM >100CM | D9: UN | F9: 11995,54
A10: 01.01.030 | B10: CORTE RASO , RECORTE E REMOÇÃO DE ÁRVORES 5CM<DIAM<15CM | D10: UN | F10: 110,55
A11: 01.01.031 | B11: CORTE RASO, RECORTE E REMOÇÃO DE ÁRVORES 15CM<DIAM<30CM | D11: UN | F11: 626,46
A12: 01.01.032 | B12: CORTE RASO, RECORTE E REMOÇÃO DE ÁRVORES 30CM<DIAM<45CM | D12: UN | F12: 2216,37
A13: 01.01.033 | B13: CORTE RASO, RECORTE E REMOÇÃO DE ÁRVORES 45CM<DIAM<60CM | D13: UN | F13: 3521,41
A14: 01.01.034 | B14: CORTE RASO, RECORTE E REMOÇÃO DE ÁRVORES 60CM<DIAM<100CM | D14: UN | F14: 7506,68
... A46: 01.08.014 | B46: TUBO PVC OCRE JUNTA ELÁSTICA DN 100 INCLUSIVE CONEXÕES - ENTERRADO | D46: M | F46: 82,55
A47: TABELA DE PREÇOS Data Base 01/2024 LS 71,27 BDI 19,5
A48: Serviço Descrição | C48: Unidade | E48: Valor
A49: 01.08.015 | B49: TUBO PVC OCRE JUNTA ELÁSTICA DN 150 INCLUSIVE CONEXÕES - ENTERRADO | D49: M | F49: 121,39
A50: 01.08.032 | B50: TUBO DRENO PLASTICO CORRUGADO PERFURADO DE 100MM EM BARRAS | D50: M | F50: 139,15
A51: 01.08.033 | B51: TUBO DRENO PLASTICO CORRUGADO PERFURADO DE 150MM EM BARRAS | D51: M | F51: 172,32
A52: 01.08.034 | B52: MANTA GEOTÊXTIL NÃO TECIDO AGULHADO 100% POLIESTER, RT 10 | D52: M2 | F52: 18,37
A53: 01.08.035 | B53: MANTA GEOTÊXTIL NÃO TECIDO AGULHADO 100% POLIESTER, RT 21 | D53: M2 | F53: 20,90
A54: 01.08.036 | B54: MANTA GEOTÊXTIL NÃO TECIDO AGULHADO 100% POLIESTER, RT 31 | D54: M2 | F54: 29,11
A55: 01.08.040 | B55: ENVOLVIMENTO DE DRENOS COM PEDRA BRITADA | D55: M3 | F55: 225,34
A56: 01.08.041 | B56: ENVOLVIMENTO DE DRENOS COM AREIA GROSSA | D56: M3 | F56: 244,42
A57: 01.08.044 | B57: FORNEC E INST DE DHP EM FUROS DE 100MM C/TUBO PVC 1 1/2" INCL TXS INST | D57: M | F57: 328,39
A58: 01.08.045 | B58: FORNEC E INST DE DHP EM FUROS DE 100MM C/TUBO PVC 2" INCL TXS INST | D58: M | F58: 350,05
A59: 01.08.050 | B59: CAIXA DE LIGACAO OU INSPECAO - ALVENARIA DE 1/2 TIJOLO REVESTIDA | D59: M2 | F59: 240,95
A60: 01.08.051 | B60: CAIXA DE LIGACAO OU INSPECAO - ALVENARIA DE 1 TIJOLO REVESTIDA | D60: M2 | F60: 386,64
... A97: 02.02.026 | B97: BROCA DE CONCRETO DE DIAMETRO 25CM - INCL ARRANQUES | D97: M | F97: 83,82
A98: TABELA DE PREÇOS Data Base 01/2024 LS 71,27 BDI 19,5
A99: Serviço Descrição | C99: Unidade | E99: Valor
A100: 02.02.027 | B100: BROCA DE CONCRETO DE DIAMETRO 30CM - INCL ARRANQUES | D100: M | F100: 124,68
A101: 02.02.035 | B101: ESTACAS TIPO STRAUSS DIAM 25CM | D101: M | F101: 85,57
A102: 02.02.036 | B102: ESTACAS TIPO STRAUSS DIAM 32CM | D102: M | F102: 111,97
A103: 02.02.037 | B103: ESTACAS TIPO STRAUSS DIAM 38CM | D103: M | F103: 140,88
A104: 02.02.038 | B104: ESTACAS TIPO STRAUSS DIAM 45CM | D104: M | F104: 201,02
A105: 02.02.070 | B105: ESTACA TIPO HELICE DN 25CM | D105: M | F105: 76,15
A106: 02.02.071 | B106: ESTACA TIPO HELICE DN 30CM | D106: M | F106: 98,02
A107: 02.02.072 | B107: ESTACA TIPO HELICE DN 35CM | D107: M | F107: 126,66
...

Sheet CDHU 193
B1: COMPANHIA DE DESENVOLVIMENTO HABITACIONAL E URBANO
A2: DO ESTADO DE SÃO PAULO
A3: BOLETIM REFERENCIAL DE CUSTOS - TABELA DE SERVIÇOS
A4: SEM DESONERAÇÃO
F5: Versão 193
E6: Data Base: | F6: FEV/24
C7: BDI : | D7: 0 | E7: L.S.: | F7: 1.2823
A8: Referência | B8: Descrição | C8: Un | D8: Material | E8: Mão de Obra | F8: Custo Total
A9: 01 | B9: SERVICO TECNICO ESPECIALIZADO
A10: 01.02 | B10: Parecer técnico
A11: 01.02.071 | B11: Parecer técnico de fundações, contenções e recomendações gerais, para empreendimentos com área construída até 1.000 m² | C11: UN | E11: 6504.46 | F11: 6504.46
A12: 01.02.081 | B12: Parecer técnico de fundações, contenções e recomendações gerais, para empreendimentos com área construída de 1.001 a 2.000 m² | C12: UN | E12: 8649.66 | F12: 8649.66
A13: 01.02.091 | B13: Parecer técnico de fundações, contenções e recomendações gerais, para empreendimentos com área construída de 2.001 a 5.000 m² | C13: UN | E13: 14775.55 | F13: 14775.55
A14: 01.02.101 | B14: Parecer técnico de fundações, contenções e recomendações gerais, para empreendimentos com área construída de 5.001 a 10.000 m² | C14: UN | E14: 20259.02 | F14: 20259.02
A15: 01.02.111 | B15: Parecer técnico de fundações, contenções e recomendações gerais, para empreendimentos com área construída acima de 10.000 m² | C15: UN | E15: 23608.75 | F15: 23608.75
A16: 01.06 | B16: Projeto de instalações elétricas
A17: 01.06.021 | B17: Elaboração de projeto de adequação de entrada de energia elétrica junto a concessionária, com medição em baixa tensão e demanda até 75 kVA | C17: UN | E17: 8308.24 | F17: 8308.24
A18: 01.06.031 | B18: Elaboração de projeto de adequação de entrada de energia elétrica junto a concessionária, com medição em média tensão, subestação simplificada e demanda de 75 kVA a 300 kVA | C18: UN | E18: 14072.5 | F18: 14072.5
A19: 01.06.032 | B19: Elaboração de projeto de adequação de entrada de energia elétrica junto a concessionária, com medição em média tensão e demanda de 75 kVA a 300 kVA | C19: UN | E19: 19042.76 | F19: 19042.76
A20: 01.06.041 | B20: Elaboração de projeto de adequação de entrada de energia elétrica junto a concessionária, com medição em média tensão e demanda acima de 300 kVA a 2 MVA | C20: UN | E20: 25329.1 | F20: 25329.1
A21: 01.17 | B21: Projeto executivo
A22: 01.17.031 | B22: Projeto executivo de arquitetura em formato A1 | C22: UN | E22: 3272.73 | F22: 3272.73
A23: 01.17.041 | B23: Projeto executivo de arquitetura em formato A0 | C23: UN | E23: 4424.38 | F23: 4424.38
A24: 01.17.051 | B24: Projeto executivo de estrutura em formato A1 | C24: UN | E24: 2400.17 | F24: 2400.17
A25: 01.17.061 | B25: Projeto executivo de estrutura em formato A0 | C25: UN | E25: 3283.86 | F25: 3283.86
A26: 01.17.071 | B26: Projeto executivo de instalações hidráulicas em formato A1 | C26: UN | E26: 1030.39 | F26: 1030.39
A27: 01.17.081 | B27: Projeto executivo de instalações hidráulicas em formato A0 | C27: UN | E27: 1371.58 | F27: 1371.58
A28: 01.17.111 | B28: Projeto executivo de instalações elétricas em formato A1 | C28: UN | E28: 1144.21 | F28: 1144.21
A29: 01.17.121 | B29: Projeto executivo de instalações elétricas em formato A0 | C29: UN | E29: 1586.51 | F29: 1586.51
A30: 01.17.151 | B30: Projeto executivo de climatização em formato A1 | C30: UN | E30: 2202.38 | F30: 2202.38
A31: 01.17.161 | B31: Projeto executivo de climatização em formato A0 | C31: UN | E31: 3002.07 | F31: 3002.07
A32: 01.17.171 | B32: Projeto executivo de chuveiros automáticos em formato A1 | C32: UN | E32: 1901.28 | F32: 1901.28
A33: 01.17.181 | B33: Projeto executivo de chuveiros automáticos em formato A0 | C33: UN | E33: 2457.47 | F33: 2457.47
A34: 01.20 | B34: Levantamento topográfico e geofísico
A35: 01.20.010 | B35: Taxa de mobilização e desmobilização de equipamentos para execução de levantamento topográfico | C35: TX | D35: 1200.72 | F35: 1200.72
A36: 01.20.280 | B36: Levantamento planimétrico de área pavimentada para veículo e pedestre | C36: M2 | D36: 0.05 | E36: 0.16 | F36: 0.21
A37: 01.20.691 | B37: Levantamento planimétrico cadastral com áreas ocupadas predominantemente por comunidades - área até 20.000 m² (mínimo de 3.500 m²) | C37: M2 | D37: 0.41 | E37: 0.53 | F37: 0.94
A38: 01.20.701 | B38: Levantamento planimétrico cadastral com áreas ocupadas predominantemente por comunidades - área acima de 20.000 m² até 200.000 m² | C38: M2 | D38: 0.32 | E38: 0.42 | F38: 0.74
A39: 01.20.711 | B39: Levantamento planimétrico cadastral com áreas ocupadas predominantemente por comunidades - área acima de 200.000 m² | C39: M2 | D39: 0.26 | E39: 0.35 | F39: 0.61
A40: 01.20.721 | B40: Levantamento planimétrico cadastral com áreas até 50% de ocupação - área até 20.000 m² (mínimo de 3.500 m²) | C40: M2 | D40: 0.35 | E40: 0.46 | F40: 0.81
...
